BEGIN:VCALENDAR
VERSION:2.0
PRODID:-//Squarespace Inc/Squarespace 6//v6//EN
BEGIN:VEVENT
UID:5a54525e085229292935d2a9@squarespace.com
DTSTAMP:20180109T052627Z
DTSTART:20180428T130000Z
DTEND:20180428T220000Z
SUMMARY:Term 2 starts. (Weekly class & playgroup)
END:VEVENT
END:VCALENDAR
