BEGIN:VCALENDAR
VERSION:2.0
PRODID:-//Squarespace Inc/Squarespace 6//v6//EN
BEGIN:VEVENT
UID:5a54528c0d929799252c5edb@squarespace.com
DTSTAMP:20180109T052717Z
DTSTART:20180628T200000Z
DTEND:20180628T220000Z
SUMMARY:Term 2 ends.
END:VEVENT
END:VCALENDAR
