BEGIN:VCALENDAR
VERSION:2.0
PRODID:-//Squarespace Inc/Squarespace 6//v6//EN
BEGIN:VEVENT
UID:5a5449400d929799252b2307@squarespace.com
DTSTAMP:20180109T052324Z
DTSTART:20180203T140000Z
DTEND:20180204T230000Z
SUMMARY:Term 1 starts. (Weekly class & playgroup)
END:VEVENT
END:VCALENDAR
