BEGIN:VCALENDAR
VERSION:2.0
PRODID:-//Squarespace Inc/Squarespace 6//v6//EN
BEGIN:VEVENT
UID:5a5451d70d929799252c48fe@squarespace.com
DTSTAMP:20180109T052446Z
DTSTART:20180329T200000Z
DTEND:20180329T220000Z
SUMMARY:Term 1 ends.
END:VEVENT
END:VCALENDAR
