BEGIN:VCALENDAR
VERSION:2.0
PRODID:-//Squarespace Inc/Squarespace 6//v6//EN
BEGIN:VEVENT
UID:5a544a6424a6947246cc1f82@squarespace.com
DTSTAMP:20180109T045442Z
DTSTART:20180223T150000Z
DTEND:20180223T153000Z
SUMMARY:Mandarin Storytime
GEO:-37.835632;145.062048
LOCATION:Real Mandarin\, 405 Camberwell Road\, Camberwell\, VIC\, 3124\, Au
 stralia
END:VEVENT
END:VCALENDAR
