BEGIN:VCALENDAR
VERSION:2.0
PRODID:-//Squarespace Inc/Squarespace 6//v6//EN
BEGIN:VEVENT
UID:5a544eb3e4966b16d154c7d7@squarespace.com
DTSTAMP:20180109T051134Z
DTSTART:20180525T140000Z
DTEND:20180525T143000Z
SUMMARY:Mandarin Storytime
GEO:-37.835632;145.062048
LOCATION:Real Mandarin\, 405 Camberwell Road\, Camberwell\, VIC\, 3124\, Au
 stralia
END:VEVENT
END:VCALENDAR
