BEGIN:VCALENDAR
VERSION:2.0
PRODID:-//Squarespace Inc/Squarespace 6//v6//EN
BEGIN:VEVENT
UID:5a544deb652deace1b641c1e@squarespace.com
DTSTAMP:20180109T050740Z
DTSTART:20180427T140000Z
DTEND:20180427T143000Z
SUMMARY:Mandarin Storytime
GEO:-37.835632;145.062048
LOCATION:Real Mandarin\, 405 Camberwell Road\, Camberwell\, VIC\, 3124\, Au
 stralia
END:VEVENT
END:VCALENDAR
