BEGIN:VCALENDAR
VERSION:2.0
PRODID:-//Squarespace Inc/Squarespace 6//v6//EN
BEGIN:VEVENT
UID:5a5449ec0d929799252b3a97@squarespace.com
DTSTAMP:20180109T045413Z
DTSTART:20180209T150000Z
DTEND:20180209T154500Z
SUMMARY:Mandarin Baby Music
GEO:-37.835632;145.062048
LOCATION:Real Mandarin\, 405 Camberwell Road\, Camberwell\, VIC\, 3124\, Au
 stralia
END:VEVENT
END:VCALENDAR
