BEGIN:VCALENDAR
VERSION:2.0
PRODID:-//Squarespace Inc/Squarespace 6//v6//EN
BEGIN:VEVENT
UID:5a544f41652deace1b6447da@squarespace.com
DTSTAMP:20180109T051313Z
DTSTART:20180608T140000Z
DTEND:20180608T144500Z
SUMMARY:Mandarin Baby Music
GEO:-37.835632;145.062048
LOCATION:Real Mandarin\, 405 Camberwell Road\, Camberwell\, VIC\, 3124\, Au
 stralia
END:VEVENT
END:VCALENDAR
