BEGIN:VCALENDAR
VERSION:2.0
PRODID:-//Squarespace Inc/Squarespace 6//v6//EN
BEGIN:VEVENT
UID:5a544e7fc83025f265c81f76@squarespace.com
DTSTAMP:20180109T051004Z
DTSTART:20180511T140000Z
DTEND:20180511T144500Z
SUMMARY:Mandarin Baby Music
GEO:-37.835632;145.062048
LOCATION:Real Mandarin\, 405 Camberwell Road\, Camberwell\, VIC\, 3124\, Au
 stralia
END:VEVENT
END:VCALENDAR
