BEGIN:VCALENDAR
VERSION:2.0
PRODID:-//Squarespace Inc/Squarespace 6//v6//EN
BEGIN:VEVENT
UID:5a544bb553450a6b36a02b86@squarespace.com
DTSTAMP:20180109T050157Z
DTSTART:20180309T150000Z
DTEND:20180309T154500Z
SUMMARY:Mandarin Baby Music
GEO:-37.835632;145.062048
LOCATION:Real Mandarin\, 405 Camberwell Road\, Camberwell\, VIC\, 3124\, Au
 stralia
END:VEVENT
END:VCALENDAR
