BEGIN:VCALENDAR
VERSION:2.0
PRODID:-//Squarespace Inc/Squarespace 6//v6//EN
BEGIN:VEVENT
UID:5a544ab771c10b117eeda18b@squarespace.com
DTSTAMP:20180109T051433Z
DTSTART:20180225T180000Z
DTEND:20180225T210000Z
SUMMARY:Lantern Festival Celebration
GEO:-37.866819;145.083928
LOCATION:Real Mandarin\, 7 Samarinda Avenue\, Ashburton\, VIC\, 3147\, Aust
 ralia
END:VEVENT
END:VCALENDAR
