BEGIN:VCALENDAR
VERSION:2.0
PRODID:-//Squarespace Inc/Squarespace 6//v6//EN
BEGIN:VEVENT
UID:5a544d2a71c10b117eedf865@squarespace.com
DTSTAMP:20180109T050444Z
DTSTART:20180411T140000Z
DTEND:20180411T180000Z
SUMMARY:Holiday Program (Mandarin as 1st Language)
GEO:-37.834986;145.058963
LOCATION:Real Mandarin\, 25 Inglesby Road\, Camberwell\, VIC\, 3124\, Austr
 alia
END:VEVENT
END:VCALENDAR
