BEGIN:VCALENDAR
VERSION:2.0
PRODID:-//Squarespace Inc/Squarespace 6//v6//EN
BEGIN:VEVENT
UID:5a544f71f9619a1f6d6535ee@squarespace.com
DTSTAMP:20180109T051401Z
DTSTART:20180610T170000Z
DTEND:20180610T190000Z
SUMMARY:Dragon Boat Festival Celebration
GEO:-37.866819;145.083928
LOCATION:Real Mandarin\, 7 Samarinda Avenue\, Ashburton\, VIC\, 3147\, Aust
 ralia
END:VEVENT
END:VCALENDAR
