BEGIN:VCALENDAR
VERSION:2.0
PRODID:-//Squarespace Inc/Squarespace 6//v6//EN
BEGIN:VEVENT
UID:5a544b51085229292934e84f@squarespace.com
DTSTAMP:20180109T051635Z
DTSTART:20180302T203000Z
DTEND:20180302T213000Z
SUMMARY:CNPS After-school Mandarin Club
GEO:-37.912559;145.123546
LOCATION:Clayton North Primary School\, 1714 Dandenong Road\, Clayton\, VIC
 \, 3168\, Australia
END:VEVENT
END:VCALENDAR
