BEGIN:VCALENDAR
VERSION:2.0
PRODID:-//Squarespace Inc/Squarespace 6//v6//EN
BEGIN:VEVENT
UID:5a544f16c83025f265c83298@squarespace.com
DTSTAMP:20180109T051721Z
DTSTART:20180601T193000Z
DTEND:20180601T203000Z
SUMMARY:CNPS After-school Mandarin Club
GEO:-37.912559;145.123546
LOCATION:Clayton North Primary School\, 1714 Dandenong Road\, Clayton\, VIC
 \, 3168\, Australia
END:VEVENT
END:VCALENDAR
