BEGIN:VCALENDAR
VERSION:2.0
PRODID:-//Squarespace Inc/Squarespace 6//v6//EN
BEGIN:VEVENT
UID:5a544e4353450a6b36a0882e@squarespace.com
DTSTAMP:20180109T051711Z
DTSTART:20180504T193000Z
DTEND:20180504T203000Z
SUMMARY:CNPS After-school Mandarin Club
GEO:-37.912559;145.123546
LOCATION:Clayton North Primary School\, 1714 Dandenong Road\, Clayton\, VIC
 \, 3168\, Australia
END:VEVENT
END:VCALENDAR
