BEGIN:VCALENDAR
VERSION:2.0
PRODID:-//Squarespace Inc/Squarespace 6//v6//EN
BEGIN:VEVENT
UID:5961ef9029687f420d756fbf@squarespace.com
DTSTAMP:20170709T085620Z
DTSTART:20170903T110000Z
DTEND:20170903T163000Z
SUMMARY:2nd-hand Mandarin Book Sale
GEO:-37.82979;145.057744
LOCATION:Camberwell Sunday Market\, Market Place\, Camberwell\, VIC\, 3124\
 , Australia
END:VEVENT
END:VCALENDAR
