BEGIN:VCALENDAR
VERSION:2.0
PRODID:-//Squarespace Inc/Squarespace 6//v6//EN
BEGIN:VEVENT
UID:5961f0dae3df28d47c35064c@squarespace.com
DTSTAMP:20170709T090145Z
DTSTART:20170923T110000Z
DTEND:20170923T210000Z
SUMMARY:Mandarin Class Term 3 Ends
END:VEVENT
END:VCALENDAR
