BEGIN:VCALENDAR
VERSION:2.0
PRODID:-//Squarespace Inc/Squarespace 6//v6//EN
BEGIN:VEVENT
UID:5961f12f893fc076ca5b1fba@squarespace.com
DTSTAMP:20170709T090308Z
DTSTART:20170922T130000Z
DTEND:20170923T210000Z
SUMMARY:Mandarin Playgroup Term 3 Ends
END:VEVENT
END:VCALENDAR
