BEGIN:VCALENDAR
VERSION:2.0
PRODID:-//Squarespace Inc/Squarespace 6//v6//EN
BEGIN:VEVENT
UID:5961f00c1b631b78568666ae@squarespace.com
DTSTAMP:20170709T090037Z
DTSTART:20170724T130000Z
DTEND:20170724T210000Z
SUMMARY:Mandarin Class Term 3 Starts
END:VEVENT
END:VCALENDAR
