BEGIN:VCALENDAR
VERSION:2.0
PRODID:-//Squarespace Inc/Squarespace 6//v6//EN
BEGIN:VEVENT
UID:5961f10ecd0f689a4a3c5cbb@squarespace.com
DTSTAMP:20170709T090231Z
DTSTART:20170717T130000Z
DTEND:20170718T210000Z
SUMMARY:Mandarin Playgroup Term 3 Starts
END:VEVENT
END:VCALENDAR
