BEGIN:VCALENDAR
VERSION:2.0
PRODID:-//Squarespace Inc/Squarespace 6//v6//EN
BEGIN:VEVENT
UID:5961efbcbf629a39ceffe9f1@squarespace.com
DTSTAMP:20170709T085705Z
DTSTART:20171001T110000Z
DTEND:20171001T163000Z
SUMMARY:Market Pl\, Camberwell VIC 3124
GEO:-37.82979;145.057744
LOCATION:Camberwell Sunday Market\, Market Place\, Camberwell\, VIC\, 3124\
 , Australia
END:VEVENT
END:VCALENDAR
